Package: DEsubs Version: 1.28.0 Command: /home/biocbuild/R/R-4.3.1/bin/R CMD check --install=check:DEsubs.install-out.txt --library=/home/biocbuild/R/R-4.3.1/site-library --no-vignettes --timings DEsubs_1.28.0.tar.gz StartedAt: 2023-11-02 09:57:39 -0000 (Thu, 02 Nov 2023) EndedAt: 2023-11-02 10:02:28 -0000 (Thu, 02 Nov 2023) EllapsedTime: 288.6 seconds RetCode: 0 Status: WARNINGS CheckDir: DEsubs.Rcheck Warnings: 1