Package: DEsingle Version: 1.22.0 Command: rm -rf DEsingle.buildbin-libdir && mkdir DEsingle.buildbin-libdir && F:\biocbuild\bbs-3.18-bioc\R\bin\R.exe CMD INSTALL --build --library=DEsingle.buildbin-libdir DEsingle_1.22.0.tar.gz StartedAt: 2024-04-16 06:55:01 -0400 (Tue, 16 Apr 2024) EndedAt: 2024-04-16 06:55:15 -0400 (Tue, 16 Apr 2024) EllapsedTime: 14.1 seconds RetCode: 0 Status: OK PackageFile: DEsingle_1.22.0.zip PackageFileSize: 398.8 KiB