Package: DEqMS Version: 1.20.0 Command: chmod a+r DEqMS -R && F:\biocbuild\bbs-3.18-bioc\R\bin\R.exe CMD build --keep-empty-dirs --no-resave-data DEqMS StartedAt: 2024-04-15 18:00:34 -0400 (Mon, 15 Apr 2024) EndedAt: 2024-04-15 18:02:19 -0400 (Mon, 15 Apr 2024) EllapsedTime: 105.3 seconds RetCode: 0 Status: OK PackageFile: DEqMS_1.20.0.tar.gz PackageFileSize: 706.2 KiB