Package: DEqMS Version: 1.20.0 Command: /home/biocbuild/bbs-3.18-bioc/R/bin/R CMD check --install=check:DEqMS.install-out.txt --library=/home/biocbuild/bbs-3.18-bioc/R/site-library --timings DEqMS_1.20.0.tar.gz StartedAt: 2024-04-15 22:03:33 -0400 (Mon, 15 Apr 2024) EndedAt: 2024-04-15 22:09:30 -0400 (Mon, 15 Apr 2024) EllapsedTime: 357.0 seconds RetCode: 0 Status: OK CheckDir: DEqMS.Rcheck Warnings: 0