Package: DEqMS Version: 1.20.0 Command: /Library/Frameworks/R.framework/Resources/bin/R CMD INSTALL DEqMS StartedAt: 2024-03-03 15:10:23 -0500 (Sun, 03 Mar 2024) EndedAt: 2024-03-03 15:10:35 -0500 (Sun, 03 Mar 2024) EllapsedTime: 12.7 seconds RetCode: 0 Status: OK