Package: DEXSeq Version: 1.48.0 Command: /Library/Frameworks/R.framework/Resources/bin/R CMD INSTALL DEXSeq StartedAt: 2024-04-15 16:18:06 -0400 (Mon, 15 Apr 2024) EndedAt: 2024-04-15 16:19:24 -0400 (Mon, 15 Apr 2024) EllapsedTime: 77.8 seconds RetCode: 0 Status: OK