Package: DEXSeq Version: 1.48.0 Command: /Library/Frameworks/R.framework/Resources/bin/R CMD build --keep-empty-dirs --no-resave-data DEXSeq StartedAt: 2024-04-15 18:15:19 -0400 (Mon, 15 Apr 2024) EndedAt: 2024-04-15 18:19:41 -0400 (Mon, 15 Apr 2024) EllapsedTime: 261.8 seconds RetCode: 0 Status: OK PackageFile: DEXSeq_1.48.0.tar.gz PackageFileSize: 1.779 MiB