Package: DEXSeq Version: 1.48.0 Command: /home/biocbuild/R/R-4.3.1/bin/R CMD check --install=check:DEXSeq.install-out.txt --library=/home/biocbuild/R/R-4.3.1/site-library --no-vignettes --timings DEXSeq_1.48.0.tar.gz StartedAt: 2023-11-02 09:58:17 -0000 (Thu, 02 Nov 2023) EndedAt: 2023-11-02 10:05:37 -0000 (Thu, 02 Nov 2023) EllapsedTime: 439.8 seconds RetCode: 0 Status: OK CheckDir: DEXSeq.Rcheck Warnings: 0