Package: DEWSeq Version: 1.16.2 Command: /home/biocbuild/bbs-3.18-bioc/R/bin/R CMD check --install=check:DEWSeq.install-out.txt --library=/home/biocbuild/bbs-3.18-bioc/R/site-library --timings DEWSeq_1.16.2.tar.gz StartedAt: 2024-04-15 22:07:02 -0400 (Mon, 15 Apr 2024) EndedAt: 2024-04-15 22:13:49 -0400 (Mon, 15 Apr 2024) EllapsedTime: 407.8 seconds RetCode: 0 Status: OK CheckDir: DEWSeq.Rcheck Warnings: 0