Package: DEWSeq Version: 1.16.2 Command: /home/biocbuild/bbs-3.18-bioc/R/bin/R CMD build --keep-empty-dirs --no-resave-data DEWSeq StartedAt: 2024-04-15 16:49:15 -0400 (Mon, 15 Apr 2024) EndedAt: 2024-04-15 16:51:08 -0400 (Mon, 15 Apr 2024) EllapsedTime: 112.4 seconds RetCode: 0 Status: OK PackageFile: DEWSeq_1.16.2.tar.gz PackageFileSize: 3.304 MiB