Package: DESpace Version: 1.2.1 Command: /Library/Frameworks/R.framework/Resources/bin/R CMD INSTALL DESpace StartedAt: 2024-03-03 15:41:31 -0500 (Sun, 03 Mar 2024) EndedAt: 2024-03-03 15:42:11 -0500 (Sun, 03 Mar 2024) EllapsedTime: 39.7 seconds RetCode: 0 Status: OK