Package: DESpace Version: 1.2.1 Command: rm -rf DESpace.buildbin-libdir && mkdir DESpace.buildbin-libdir && /Users/biocbuild/BBS/utils/build-universal.sh DESpace_1.2.1.tar.gz /Library/Frameworks/R.framework/Resources/bin/R DESpace.buildbin-libdir StartedAt: 2024-03-04 00:38:02 -0500 (Mon, 04 Mar 2024) EndedAt: 2024-03-04 00:38:44 -0500 (Mon, 04 Mar 2024) EllapsedTime: 41.9 seconds RetCode: 0 Status: OK PackageFile: DESpace_1.2.1.tgz PackageFileSize: 3.629 MiB