Package: DESpace Version: 1.2.0 Command: /home/biocbuild/R/R-4.3.1/bin/R CMD check --install=check:DESpace.install-out.txt --library=/home/biocbuild/R/R-4.3.1/site-library --timings DESpace_1.2.0.tar.gz StartedAt: 2023-10-25 09:52:30 -0000 (Wed, 25 Oct 2023) EndedAt: 2023-10-25 10:10:19 -0000 (Wed, 25 Oct 2023) EllapsedTime: 1068.7 seconds RetCode: 0 Status: OK CheckDir: DESpace.Rcheck Warnings: 0