Package: DESeq2 Version: 1.42.1 Command: /home/biocbuild/bbs-3.18-bioc/R/bin/R CMD check --install=check:DESeq2.install-out.txt --library=/home/biocbuild/bbs-3.18-bioc/R/site-library --timings DESeq2_1.42.1.tar.gz StartedAt: 2024-04-15 22:06:00 -0400 (Mon, 15 Apr 2024) EndedAt: 2024-04-15 22:14:17 -0400 (Mon, 15 Apr 2024) EllapsedTime: 497.1 seconds RetCode: 0 Status: OK CheckDir: DESeq2.Rcheck Warnings: 0