Package: DESeq2 Version: 1.42.1 Command: /Library/Frameworks/R.framework/Resources/bin/R CMD INSTALL DESeq2 StartedAt: 2024-04-15 15:26:47 -0400 (Mon, 15 Apr 2024) EndedAt: 2024-04-15 15:28:30 -0400 (Mon, 15 Apr 2024) EllapsedTime: 103.8 seconds RetCode: 0 Status: OK