Package: DESeq2 Version: 1.42.1 Command: /Library/Frameworks/R.framework/Resources/bin/R CMD build --keep-empty-dirs --no-resave-data DESeq2 StartedAt: 2024-04-15 18:14:25 -0400 (Mon, 15 Apr 2024) EndedAt: 2024-04-15 18:19:00 -0400 (Mon, 15 Apr 2024) EllapsedTime: 275.4 seconds RetCode: 0 Status: OK PackageFile: DESeq2_1.42.1.tar.gz PackageFileSize: 3.296 MiB