Package: DESeq2 Version: 1.42.0 Command: /Library/Frameworks/R.framework/Resources/bin/R CMD build --keep-empty-dirs --no-resave-data DESeq2 StartedAt: 2024-03-03 16:30:17 -0500 (Sun, 03 Mar 2024) EndedAt: 2024-03-03 16:32:46 -0500 (Sun, 03 Mar 2024) EllapsedTime: 148.7 seconds RetCode: 0 Status: OK PackageFile: DESeq2_1.42.0.tar.gz PackageFileSize: 2.078 MiB