Package: DEScan2 Version: 1.22.0 Command: /home/biocbuild/bbs-3.18-bioc/R/bin/R CMD INSTALL DEScan2 StartedAt: 2024-04-15 15:40:55 -0400 (Mon, 15 Apr 2024) EndedAt: 2024-04-15 15:41:55 -0400 (Mon, 15 Apr 2024) EllapsedTime: 60.1 seconds RetCode: 0 Status: OK