Package: DEScan2 Version: 1.22.0 Command: /home/biocbuild/bbs-3.18-bioc/R/bin/R CMD check --install=check:DEScan2.install-out.txt --library=/home/biocbuild/bbs-3.18-bioc/R/site-library --timings DEScan2_1.22.0.tar.gz StartedAt: 2024-04-15 22:05:24 -0400 (Mon, 15 Apr 2024) EndedAt: 2024-04-15 22:13:16 -0400 (Mon, 15 Apr 2024) EllapsedTime: 472.1 seconds RetCode: 0 Status: WARNINGS CheckDir: DEScan2.Rcheck Warnings: 2