Package: DEScan2 Version: 1.22.0 Command: /Library/Frameworks/R.framework/Resources/bin/R CMD build --keep-empty-dirs --no-resave-data DEScan2 StartedAt: 2024-04-15 18:14:19 -0400 (Mon, 15 Apr 2024) EndedAt: 2024-04-15 18:17:56 -0400 (Mon, 15 Apr 2024) EllapsedTime: 216.2 seconds RetCode: 0 Status: OK PackageFile: DEScan2_1.22.0.tar.gz PackageFileSize: 2.478 MiB