Package: DEScan2 Version: 1.22.0 Command: rm -rf DEScan2.buildbin-libdir && mkdir DEScan2.buildbin-libdir && /Users/biocbuild/BBS/utils/build-universal.sh DEScan2_1.22.0.tar.gz /Library/Frameworks/R.framework/Resources/bin/R DEScan2.buildbin-libdir StartedAt: 2024-04-16 11:29:42 -0400 (Tue, 16 Apr 2024) EndedAt: 2024-04-16 11:33:01 -0400 (Tue, 16 Apr 2024) EllapsedTime: 198.9 seconds RetCode: 0 Status: OK PackageFile: DEScan2_1.22.0.tgz PackageFileSize: 2.6 MiB