Package: DEScan2 Version: 1.22.0 Command: /Library/Frameworks/R.framework/Resources/bin/R CMD build --keep-empty-dirs --no-resave-data DEScan2 StartedAt: 2024-03-03 16:30:07 -0500 (Sun, 03 Mar 2024) EndedAt: 2024-03-03 16:32:15 -0500 (Sun, 03 Mar 2024) EllapsedTime: 128.6 seconds RetCode: 0 Status: OK PackageFile: DEScan2_1.22.0.tar.gz PackageFileSize: 2.469 MiB