Package: DEP Version: 1.24.0 Command: /home/biocbuild/R/R-4.3.1/bin/R CMD build --keep-empty-dirs --no-resave-data DEP StartedAt: 2023-11-02 00:13:30 -0000 (Thu, 02 Nov 2023) EndedAt: 2023-11-02 00:15:26 -0000 (Thu, 02 Nov 2023) EllapsedTime: 116.2 seconds RetCode: 0 Status: OK PackageFile: DEP_1.24.0.tar.gz PackageFileSize: 3.12 MiB