Package: DELocal Version: 1.2.1 Command: /Library/Frameworks/R.framework/Resources/bin/R CMD check --install=check:DELocal.install-out.txt --library=/Library/Frameworks/R.framework/Resources/library --no-vignettes --timings DELocal_1.2.1.tar.gz StartedAt: 2024-04-16 01:46:33 -0400 (Tue, 16 Apr 2024) EndedAt: 2024-04-16 01:52:59 -0400 (Tue, 16 Apr 2024) EllapsedTime: 386.0 seconds RetCode: 0 Status: OK CheckDir: DELocal.Rcheck Warnings: 0