Package: DELocal Version: 1.2.1 Command: /Library/Frameworks/R.framework/Resources/bin/R CMD build --keep-empty-dirs --no-resave-data DELocal StartedAt: 2024-04-15 18:09:02 -0400 (Mon, 15 Apr 2024) EndedAt: 2024-04-15 18:12:24 -0400 (Mon, 15 Apr 2024) EllapsedTime: 202.0 seconds RetCode: 0 Status: OK PackageFile: DELocal_1.2.1.tar.gz PackageFileSize: 2.334 MiB