Package: DELocal Version: 1.2.0 Command: /Library/Frameworks/R.framework/Resources/bin/R CMD check --install=check:DELocal.install-out.txt --library=/Library/Frameworks/R.framework/Resources/library --no-vignettes --timings DELocal_1.2.0.tar.gz StartedAt: 2024-03-03 20:06:34 -0500 (Sun, 03 Mar 2024) EndedAt: 2024-03-03 20:10:11 -0500 (Sun, 03 Mar 2024) EllapsedTime: 216.7 seconds RetCode: 0 Status: OK CheckDir: DELocal.Rcheck Warnings: 0