Package: DELocal Version: 1.2.0 Command: /Library/Frameworks/R.framework/Resources/bin/R CMD build --keep-empty-dirs --no-resave-data DELocal StartedAt: 2024-03-03 16:28:36 -0500 (Sun, 03 Mar 2024) EndedAt: 2024-03-03 16:30:07 -0500 (Sun, 03 Mar 2024) EllapsedTime: 90.5 seconds RetCode: 0 Status: OK PackageFile: DELocal_1.2.0.tar.gz PackageFileSize: 2.339 MiB