Package: DELocal Version: 1.2.0 Command: /home/biocbuild/R/R-4.3.1/bin/R CMD check --install=check:DELocal.install-out.txt --library=/home/biocbuild/R/R-4.3.1/site-library --no-vignettes --timings DELocal_1.2.0.tar.gz StartedAt: 2023-11-02 09:53:27 -0000 (Thu, 02 Nov 2023) EndedAt: 2023-11-02 09:57:44 -0000 (Thu, 02 Nov 2023) EllapsedTime: 257.5 seconds RetCode: 0 Status: OK CheckDir: DELocal.Rcheck Warnings: 0