Package: DEGseq Version: 1.56.1 Command: rm -rf DEGseq.buildbin-libdir && mkdir DEGseq.buildbin-libdir && F:\biocbuild\bbs-3.18-bioc\R\bin\R.exe CMD INSTALL --build --library=DEGseq.buildbin-libdir DEGseq_1.56.1.tar.gz StartedAt: 2024-04-16 06:54:04 -0400 (Tue, 16 Apr 2024) EndedAt: 2024-04-16 06:54:30 -0400 (Tue, 16 Apr 2024) EllapsedTime: 26.0 seconds RetCode: 0 Status: OK PackageFile: DEGseq_1.56.1.zip PackageFileSize: 2.387 MiB