Package: DEGseq Version: 1.56.1 Command: /Library/Frameworks/R.framework/Resources/bin/R CMD build --keep-empty-dirs --no-resave-data DEGseq StartedAt: 2024-04-15 18:07:48 -0400 (Mon, 15 Apr 2024) EndedAt: 2024-04-15 18:08:49 -0400 (Mon, 15 Apr 2024) EllapsedTime: 61.2 seconds RetCode: 0 Status: OK PackageFile: DEGseq_1.56.1.tar.gz PackageFileSize: 1.96 MiB