Package: DEGseq Version: 1.56.1 Command: /Library/Frameworks/R.framework/Resources/bin/R CMD INSTALL DEGseq StartedAt: 2024-03-03 15:10:27 -0500 (Sun, 03 Mar 2024) EndedAt: 2024-03-03 15:10:46 -0500 (Sun, 03 Mar 2024) EllapsedTime: 18.9 seconds RetCode: 0 Status: OK