Package: DEGreport Version: 1.38.5 Command: F:\biocbuild\bbs-3.18-bioc\R\bin\R.exe CMD check --no-multiarch --install=check:DEGreport.install-out.txt --library=F:\biocbuild\bbs-3.18-bioc\R\library --no-vignettes --timings DEGreport_1.38.5.tar.gz StartedAt: 2024-04-15 23:59:41 -0400 (Mon, 15 Apr 2024) EndedAt: 2024-04-16 00:05:17 -0400 (Tue, 16 Apr 2024) EllapsedTime: 335.6 seconds RetCode: 0 Status: OK CheckDir: DEGreport.Rcheck Warnings: 0