Package: DEGreport Version: 1.38.5 Command: chmod a+r DEGreport -R && F:\biocbuild\bbs-3.18-bioc\R\bin\R.exe CMD build --keep-empty-dirs --no-resave-data DEGreport StartedAt: 2024-04-15 17:56:27 -0400 (Mon, 15 Apr 2024) EndedAt: 2024-04-15 17:58:02 -0400 (Mon, 15 Apr 2024) EllapsedTime: 94.3 seconds RetCode: 0 Status: OK PackageFile: DEGreport_1.38.5.tar.gz PackageFileSize: 18.71 MiB