Package: DEGreport Version: 1.38.5 Command: /Library/Frameworks/R.framework/Resources/bin/R CMD INSTALL DEGreport StartedAt: 2024-04-15 15:42:39 -0400 (Mon, 15 Apr 2024) EndedAt: 2024-04-15 15:44:06 -0400 (Mon, 15 Apr 2024) EllapsedTime: 86.6 seconds RetCode: 0 Status: OK