Package: DEGreport Version: 1.38.5 Command: /Library/Frameworks/R.framework/Resources/bin/R CMD INSTALL DEGreport StartedAt: 2024-03-03 15:18:39 -0500 (Sun, 03 Mar 2024) EndedAt: 2024-03-03 15:19:21 -0500 (Sun, 03 Mar 2024) EllapsedTime: 42.4 seconds RetCode: 0 Status: OK