Package: DEFormats Version: 1.30.0 Command: chmod a+r DEFormats -R && F:\biocbuild\bbs-3.18-bioc\R\bin\R.exe CMD build --keep-empty-dirs --no-resave-data DEFormats StartedAt: 2024-04-15 17:56:03 -0400 (Mon, 15 Apr 2024) EndedAt: 2024-04-15 17:56:45 -0400 (Mon, 15 Apr 2024) EllapsedTime: 41.5 seconds RetCode: 0 Status: OK PackageFile: DEFormats_1.30.0.tar.gz PackageFileSize: 226.5 KiB