Package: DEFormats Version: 1.30.0 Command: /Library/Frameworks/R.framework/Resources/bin/R CMD INSTALL DEFormats StartedAt: 2024-03-03 15:23:14 -0500 (Sun, 03 Mar 2024) EndedAt: 2024-03-03 15:23:52 -0500 (Sun, 03 Mar 2024) EllapsedTime: 37.3 seconds RetCode: 0 Status: OK