Package: DART Version: 1.50.0 Command: rm -rf DART.buildbin-libdir && mkdir DART.buildbin-libdir && /Users/biocbuild/BBS/utils/build-universal.sh DART_1.50.0.tar.gz /Library/Frameworks/R.framework/Resources/bin/R DART.buildbin-libdir StartedAt: 2024-03-04 00:37:05 -0500 (Mon, 04 Mar 2024) EndedAt: 2024-03-04 00:37:10 -0500 (Mon, 04 Mar 2024) EllapsedTime: 5.8 seconds RetCode: 0 Status: OK PackageFile: DART_1.50.0.tgz PackageFileSize: 2.027 MiB