Package: DART Version: 1.50.0 Command: /home/biocbuild/R/R-4.3.1/bin/R CMD build --keep-empty-dirs --no-resave-data DART StartedAt: 2023-11-01 23:59:15 -0000 (Wed, 01 Nov 2023) EndedAt: 2023-11-02 00:01:03 -0000 (Thu, 02 Nov 2023) EllapsedTime: 108.1 seconds RetCode: 0 Status: OK PackageFile: DART_1.50.0.tar.gz PackageFileSize: 1.983 MiB