Package: DAPAR Version: 1.34.0 Command: /home/biocbuild/R/R-4.3.1/bin/R CMD INSTALL DAPAR StartedAt: 2023-11-01 20:42:52 -0000 (Wed, 01 Nov 2023) EndedAt: 2023-11-01 20:43:23 -0000 (Wed, 01 Nov 2023) EllapsedTime: 30.3 seconds RetCode: 0 Status: OK