Package: CytoPipeline Version: 1.2.0 Command: rm -rf CytoPipeline.buildbin-libdir && mkdir CytoPipeline.buildbin-libdir && /Users/biocbuild/BBS/utils/build-universal.sh CytoPipeline_1.2.0.tar.gz /Library/Frameworks/R.framework/Resources/bin/R CytoPipeline.buildbin-libdir StartedAt: 2024-03-04 00:36:53 -0500 (Mon, 04 Mar 2024) EndedAt: 2024-03-04 00:37:19 -0500 (Mon, 04 Mar 2024) EllapsedTime: 25.1 seconds RetCode: 0 Status: OK PackageFile: CytoPipeline_1.2.0.tgz PackageFileSize: 3.169 MiB