Package: CytoML Version: 2.14.0 Command: /home/biocbuild/R/R-4.3.1/bin/R CMD INSTALL CytoML StartedAt: 2023-11-01 20:23:20 -0000 (Wed, 01 Nov 2023) EndedAt: 2023-11-01 20:24:58 -0000 (Wed, 01 Nov 2023) EllapsedTime: 97.6 seconds RetCode: 0 Status: OK