Package: CyTOFpower Version: 1.8.0 Command: rm -rf CyTOFpower.buildbin-libdir && mkdir CyTOFpower.buildbin-libdir && F:\biocbuild\bbs-3.18-bioc\R\bin\R.exe CMD INSTALL --build --library=CyTOFpower.buildbin-libdir CyTOFpower_1.8.0.tar.gz StartedAt: 2024-04-16 06:52:49 -0400 (Tue, 16 Apr 2024) EndedAt: 2024-04-16 06:53:00 -0400 (Tue, 16 Apr 2024) EllapsedTime: 10.9 seconds RetCode: 0 Status: OK PackageFile: CyTOFpower_1.8.0.zip PackageFileSize: 614.7 KiB