Package: CuratedAtlasQueryR Version: 1.0.1 Command: F:\biocbuild\bbs-3.18-bioc\R\bin\R.exe CMD check --no-multiarch --install=check:CuratedAtlasQueryR.install-out.txt --library=F:\biocbuild\bbs-3.18-bioc\R\library --no-vignettes --timings CuratedAtlasQueryR_1.0.1.tar.gz StartedAt: 2024-04-15 23:49:00 -0400 (Mon, 15 Apr 2024) EndedAt: 2024-04-15 23:53:52 -0400 (Mon, 15 Apr 2024) EllapsedTime: 291.8 seconds RetCode: 0 Status: OK CheckDir: CuratedAtlasQueryR.Rcheck Warnings: 0