Package: CuratedAtlasQueryR Version: 1.0.1 Command: chmod a+r CuratedAtlasQueryR -R && F:\biocbuild\bbs-3.18-bioc\R\bin\R.exe CMD build --keep-empty-dirs --no-resave-data CuratedAtlasQueryR StartedAt: 2024-04-15 17:50:35 -0400 (Mon, 15 Apr 2024) EndedAt: 2024-04-15 17:52:58 -0400 (Mon, 15 Apr 2024) EllapsedTime: 143.6 seconds RetCode: 0 Status: OK PackageFile: CuratedAtlasQueryR_1.0.1.tar.gz PackageFileSize: 906.6 KiB