Package: CuratedAtlasQueryR Version: 1.0.1 Command: /home/biocbuild/bbs-3.18-bioc/R/bin/R CMD check --install=check:CuratedAtlasQueryR.install-out.txt --library=/home/biocbuild/bbs-3.18-bioc/R/site-library --timings CuratedAtlasQueryR_1.0.1.tar.gz StartedAt: 2024-04-15 21:45:10 -0400 (Mon, 15 Apr 2024) EndedAt: 2024-04-15 21:51:52 -0400 (Mon, 15 Apr 2024) EllapsedTime: 402.1 seconds RetCode: 1 Status: ERROR CheckDir: CuratedAtlasQueryR.Rcheck Warnings: NA