Package: CuratedAtlasQueryR Version: 1.0.1 Command: /Library/Frameworks/R.framework/Resources/bin/R CMD INSTALL CuratedAtlasQueryR StartedAt: 2024-04-15 16:09:18 -0400 (Mon, 15 Apr 2024) EndedAt: 2024-04-15 16:10:39 -0400 (Mon, 15 Apr 2024) EllapsedTime: 80.5 seconds RetCode: 0 Status: OK