Package: CuratedAtlasQueryR Version: 1.0.1 Command: /Library/Frameworks/R.framework/Resources/bin/R CMD check --install=check:CuratedAtlasQueryR.install-out.txt --library=/Library/Frameworks/R.framework/Resources/library --no-vignettes --timings CuratedAtlasQueryR_1.0.1.tar.gz StartedAt: 2024-03-03 19:58:47 -0500 (Sun, 03 Mar 2024) EndedAt: 2024-03-03 20:05:01 -0500 (Sun, 03 Mar 2024) EllapsedTime: 373.6 seconds RetCode: 0 Status: OK CheckDir: CuratedAtlasQueryR.Rcheck Warnings: 0