Package: CuratedAtlasQueryR Version: 1.0.1 Command: rm -rf CuratedAtlasQueryR.buildbin-libdir && mkdir CuratedAtlasQueryR.buildbin-libdir && /Users/biocbuild/BBS/utils/build-universal.sh CuratedAtlasQueryR_1.0.1.tar.gz /Library/Frameworks/R.framework/Resources/bin/R CuratedAtlasQueryR.buildbin-libdir StartedAt: 2024-03-04 00:36:42 -0500 (Mon, 04 Mar 2024) EndedAt: 2024-03-04 00:37:38 -0500 (Mon, 04 Mar 2024) EllapsedTime: 56.0 seconds RetCode: 0 Status: OK PackageFile: CuratedAtlasQueryR_1.0.1.tgz PackageFileSize: 1007 KiB