Package: CrispRVariants Version: 1.30.0 Command: rm -rf CrispRVariants.buildbin-libdir && mkdir CrispRVariants.buildbin-libdir && F:\biocbuild\bbs-3.18-bioc\R\bin\R.exe CMD INSTALL --build --library=CrispRVariants.buildbin-libdir CrispRVariants_1.30.0.tar.gz StartedAt: 2024-04-16 06:51:58 -0400 (Tue, 16 Apr 2024) EndedAt: 2024-04-16 06:53:02 -0400 (Tue, 16 Apr 2024) EllapsedTime: 63.2 seconds RetCode: 0 Status: OK PackageFile: CrispRVariants_1.30.0.zip PackageFileSize: 2.439 MiB